BEGIN:VCALENDAR
VERSION:2.0
PRODID:spatie/icalendar-generator
DESCRIPTION:Events from The BEAST
X-WR-CALDESC:Events from The BEAST
REFRESH-INTERVAL;VALUE=DURATION:PT1440M
X-PUBLISHED-TTL:PT1440M
BEGIN:VTIMEZONE
TZID:America/Toronto
BEGIN:STANDARD
DTSTART:20201101T020000Z
TZOFFSETFROM:-0400
TZOFFSETTO:-0500
END:STANDARD
BEGIN:DAYLIGHT
DTSTART:20210314T020000Z
TZOFFSETFROM:-0500
TZOFFSETTO:-0400
END:DAYLIGHT
END:VTIMEZONE
BEGIN:VTIMEZONE
TZID:UTC
BEGIN:STANDARD
DTSTART:20250726T084640Z
TZOFFSETFROM:+0000
TZOFFSETTO:+0000
END:STANDARD
END:VTIMEZONE
BEGIN:VEVENT
UID:525-307
DTSTAMP:20260422T084640Z
SUMMARY:Beauties of the BEAST Ride - Cancelled for 2021
LOCATION:
ORGANIZER;CN=Gord Servant:MAILTO:gord.servant@gmail.com
DTSTART;TZID=America/Toronto;VALUE=DATE:20210130
DTEND;TZID=America/Toronto;VALUE=DATE:20210201
X-ALT-DESC;FMTTYPE=TEXT/HTML:Hello Beauties When the snow starts to fall ea
 ch winter we all look forward to our annual Beauties Ride\, the fun that c
 omes with it\, and the memories that stay with us long after the snow has 
 gone. Unfortunately with the current Covid situation your Beauties committ
 ee wanted to share with you that we have&amp;hellip\;
CATEGORIES:General
URL;VALUE=URI:https://www.thebeast.ca/mc-events/beauties-of-the-beast-ride-
 cancelled-for-2021/
METHOD:PUBLISH
END:VEVENT
END:VCALENDAR